BEGIN:VCALENDAR
VERSION:2.0
PRODID:-//HintnerJugend - ECPv6.15.20//NONSGML v1.0//EN
CALSCALE:GREGORIAN
METHOD:PUBLISH
X-ORIGINAL-URL:https://www.hintnerjugend.de
X-WR-CALDESC:Veranstaltungen für HintnerJugend
REFRESH-INTERVAL;VALUE=DURATION:PT1H
X-Robots-Tag:noindex
X-PUBLISHED-TTL:PT1H
BEGIN:VTIMEZONE
TZID:UTC
BEGIN:STANDARD
TZOFFSETFROM:+0000
TZOFFSETTO:+0000
TZNAME:UTC
DTSTART:20220101T000000
END:STANDARD
END:VTIMEZONE
BEGIN:VEVENT
DTSTART;VALUE=DATE:20260102
DTEND;VALUE=DATE:20260105
DTSTAMP:20260421T074929
CREATED:20250110T112751Z
LAST-MODIFIED:20250313T164204Z
UID:1216-1767312000-1767571199@www.hintnerjugend.de
SUMMARY:Neujahrsklausur 2026
DESCRIPTION:Die Führungskader der HintnerJugend treffen sich wie jedes Jahr an der Wasserkuppe (Rhön\, Hessen)\, um Jahresplanung und Strategie für das neu Jahr zu erarbeiten.
URL:https://www.hintnerjugend.de/event/neujahrsklausur-2026/
LOCATION:Rhön\, Rhön\, Deutschland
ATTACH;FMTTYPE=image/jpeg:https://www.hintnerjugend.de/wp-content/uploads/2024/01/njk1b.jpg
END:VEVENT
BEGIN:VEVENT
DTSTART;VALUE=DATE:20251219
DTEND;VALUE=DATE:20251222
DTSTAMP:20260421T074929
CREATED:20250110T112701Z
LAST-MODIFIED:20250318T090155Z
UID:1214-1766102400-1766361599@www.hintnerjugend.de
SUMMARY:Biernachten 2025
DESCRIPTION:Die PARTEInachtszeit wird dieses Jahr wieder einmal ganz besinnlich in der Nähe von Landshut gefeiert.\nZur allgemeinen Belustigung gibt es wieder eine Blindbierverkostung\, bei der das beste Bier Deutschlands (und der Welt) gekürt wird. Sonstiges Programm: Lösung des Nahostkonflikts und Gesellschaftsspiele \n19.-21. Dezember; Übernachtung im großem Schlafsaal der Villa K. (mit Isomatte und Schlafsack – Ohrstöpsel sehr empfehlenswert!!) \nKosten für das gesamte Wochenende ca. 15-20€ p.P. \nAnmeldung unter suedbund25(at)hintnerjugend.de
URL:https://www.hintnerjugend.de/event/biernachten-2025/
LOCATION:Landshut\, Landshut\, Deutschland
END:VEVENT
BEGIN:VEVENT
DTSTART;VALUE=DATE:20251024
DTEND;VALUE=DATE:20251027
DTSTAMP:20260421T074929
CREATED:20250110T112536Z
LAST-MODIFIED:20250313T151434Z
UID:1212-1761264000-1761523199@www.hintnerjugend.de
SUMMARY:Roter Oktober 2025
DESCRIPTION:Roter Oktober – Wein und Westfront\nFr. 24. (ca. 18 Uhr) bis So. 26. Oktober (nachmittags)\, bei Fischbach bei Dahn \nWir treffen uns in der Südpfalz\, übernachten in einem Gruppenhaus (Mehrbettzimmer mit 8 Betten)\, kochen abends selbst\, wandern tagsüber durch die Pfalz und besuchen Pfälzer und Elsässer Burgen und Sonderwaffenlager. \nFreitag: Anreise\, Abendessen\, Nachtwanderung (bei gutem Wetter)\nSamstag: Frühstück\, Wanderung (Burg\, Sonderwaffenlager Area One\, Frankreich)\, Abendessen\, Weinprobe (optional)\nSonntag: Frühstück\, saubermachen\, kurze Wanderung und gemeinsames Mittagessen im Restaurant (optional). Auf Wunsch noch Minigolf. \nKosten (Übernachtung\, Frühstück\, Abendessen ohne Getränke): 50 EUR p.P.\nFragen und Anmeldung unter oktober2025(at)hintnerjugend.de
URL:https://www.hintnerjugend.de/event/roter-oktober-2025/
LOCATION:Pfälzer Wald\, Pfälzerwald\, Deutschland
ATTACH;FMTTYPE=image/jpeg:https://www.hintnerjugend.de/wp-content/uploads/2025/01/roterokt.jpg
END:VEVENT
BEGIN:VEVENT
DTSTART;VALUE=DATE:20250816
DTEND;VALUE=DATE:20250818
DTSTAMP:20260421T074929
CREATED:20250110T112124Z
LAST-MODIFIED:20250318T200300Z
UID:1200-1755302400-1755475199@www.hintnerjugend.de
SUMMARY:HintnerJugendSpiele 2025
DESCRIPTION:Flink wie die deutsche Eiche – das muss unser sportliches Ziel werden!\nUm dieses zu erreichen\, veranstaltet der Südbund am 16. August 2025 die HintnerJugendSpiele in Neuburg a.d. Donau. Es gibt eine Vielzahl von Disziplinen zu meistern\, welche Willenskraft\, Geschicklichkeit\, Schnelligkeit und fehlendes Schamgefühl erfordern. \nBeginn ca. 14 Uhr\, Ende der Spiele ca. 18 Uhr.\nDanach gemütlicher Abend; bei Fahruntüchtigkeit optional Übernachtung bei den netten PARTEIgenossen von nebenan. \nUnkostenbeitrag: 10 EUR \nAnmeldung unter suedbund25(at)hintnerjugend.de
URL:https://www.hintnerjugend.de/event/hintnerjugendspiele-2025/
LOCATION:Neuburg a.d. Donau\, Neuburg\, Bayern\, Germany
ATTACH;FMTTYPE=image/jpeg:https://www.hintnerjugend.de/wp-content/uploads/2025/01/HJS-Symbolbild-2.jpg
END:VEVENT
BEGIN:VEVENT
DTSTART;VALUE=DATE:20250802
DTEND;VALUE=DATE:20250807
DTSTAMP:20260421T074929
CREATED:20250110T112450Z
LAST-MODIFIED:20250313T163902Z
UID:1210-1754092800-1754524799@www.hintnerjugend.de
SUMMARY:Watzmann-Aufstieg 2025
DESCRIPTION:Wie jedes Jahr steigt die HintnerJugend auf den höchsten insgesamt deutschen Berg\, um an der Aufschüttung des Gipfels auf über 3000 Meter Höhe weiterzuarbeiten. \nAufi! \n  \n[ausgebucht]
URL:https://www.hintnerjugend.de/event/watzmann-aufstieg-2025/
LOCATION:Berchtesgaden\, Berchtesgaden\, Deutschland
ATTACH;FMTTYPE=image/jpeg:https://www.hintnerjugend.de/wp-content/uploads/2025/01/watz1.jpg
END:VEVENT
BEGIN:VEVENT
DTSTART;VALUE=DATE:20250723
DTEND;VALUE=DATE:20250728
DTSTAMP:20260421T074929
CREATED:20250110T112408Z
LAST-MODIFIED:20250313T153916Z
UID:1208-1753228800-1753660799@www.hintnerjugend.de
SUMMARY:Burg Herzberg Festival 2025 - Präsenz vor Ort
DESCRIPTION:Die HintnerJugend betreut zusammen mit der PARTEI einen großartigen Infostand beim ebenso großartigen Burg Herzberg Festival 2025! Schaut vorbei!
URL:https://www.hintnerjugend.de/event/burg-herzberg-festival-2025-praesenz-vor-ort/
LOCATION:Burg Herzberg\, Hofhuhnstadt\, 36287 Breitenbach am Herzberg\, Burg Herzberg\, Deutschland
END:VEVENT
BEGIN:VEVENT
DTSTART;VALUE=DATE:20250712
DTEND;VALUE=DATE:20250713
DTSTAMP:20260421T074929
CREATED:20250630T211334Z
LAST-MODIFIED:20250630T211919Z
UID:1307-1752278400-1752364799@www.hintnerjugend.de
SUMMARY:F(l)unkyball Trainingslager
DESCRIPTION:Um sicherzustellen\, dass keine HintnerJugendlichen\, und kein Verband der sehr gutesten Partei Die PARTEI bei unserem großen F(l)unkyballturnier  hinter lokalen Initiativen etc. landet\, laden wir am 12.07.2025 zum internen Trainingslager ein! \nShuttle-Service und Platz zum Zelten sind vorhanden\, ein Infostand zum Vorglühen ist auch angedacht. Selbstverständlich wird auch dem trockenen Flügel die Möglichkeit auf eine ausgiebige Vorbereitung gewährt. \nVerbindliche Anmeldung unter: fckaf.de/pAA
URL:https://www.hintnerjugend.de/event/flunkyball-trainingslager/
LOCATION:Kornspeicher Klein-Sommerbeck
ATTACH;FMTTYPE=image/jpeg:https://www.hintnerjugend.de/wp-content/uploads/2025/06/funkyball2.jpg
END:VEVENT
BEGIN:VEVENT
DTSTART;VALUE=DATE:20250711
DTEND;VALUE=DATE:20250714
DTSTAMP:20260421T074929
CREATED:20250110T112254Z
LAST-MODIFIED:20250313T153324Z
UID:1204-1752192000-1752451199@www.hintnerjugend.de
SUMMARY:Zeltlager „Altmühlsturm“ 2025
DESCRIPTION:Altmühlsturm\nWeil auch die Fische des langsamsten Flusses Bayerns nicht von unseren Indoktrinationsversuchen verschont bleiben sollen\, wird auch 2025 wieder zum Sturm auf die Altmühl geblasen. \nKern der Operation bildet eine ganztägige Kanutour von Solnhofen nach Dollnstein am Samstag 12. Juli 2025. Die Anreise kann bereits am Tag davor erfolgen mit traditionellem Zelten auf dem River Camp in Solnhofen. \nDaten:\n-Zeitraum: 11.-13.07.2025\n-Tour: 12.07.\n-Preis: ca. 30€ p.P.\n-Start: 10:00 Uhr\n-Ankunft spätestens 16:30 Uhr in Dollnstein\n-Anschließend Rückfahrt mit dem Zug nach Solnhofen\n-Optional: Übernachtung auf dem Zeltplatz des Veranstalters (Preis pro Nacht pro Person 7 EUR\, zzgl. kleines Zelt 7 EUR\, mehr Details hier: aktivmuehle.de/camping) \nFragen und Anmeldung unter altmuehlsturm(at)hintnerjugend.de
URL:https://www.hintnerjugend.de/event/zeltlager-altmuehlsturm-2025/
LOCATION:Altmühltal\, Naturpark Altmühltal\, Deutschland
ATTACH;FMTTYPE=image/jpeg:https://www.hintnerjugend.de/wp-content/uploads/2025/01/altmuehl1c.jpg
END:VEVENT
BEGIN:VEVENT
DTSTART;VALUE=DATE:20250607
DTEND;VALUE=DATE:20250612
DTSTAMP:20260421T074929
CREATED:20250110T111851Z
LAST-MODIFIED:20250313T154345Z
UID:1198-1749254400-1749686399@www.hintnerjugend.de
SUMMARY:Pragfahrt 2025
DESCRIPTION:7.-11. Juni (Pfingsten)\, Treffen in Prag Samstagabend\, Abreise Mittwochmittag; wir übernachten in verschiedenen Quartieren in Anděl (Prag 5)\, ca. 120 EUR p.P. für die Übernachtungen (für 4 Nächte; im DZ … wer alleine im Doppelbett schlafen möchte\, zahlt das doppelte) \nTouristische Ausflüge in großer Gruppe oder Kleingruppen: Sehenswürdigkeiten\, Schlossberg\, tschechisches Bier\, … eine größere Besichtigung oder einen Ausflug in ein entfernteres Stadtviertel t.b.d.
URL:https://www.hintnerjugend.de/event/pragfahrt-2025/
LOCATION:Prag\, Prag\, Tschechien\, Tschechien
END:VEVENT
BEGIN:VEVENT
DTSTART;VALUE=DATE:20250531
DTEND;VALUE=DATE:20250601
DTSTAMP:20260421T074929
CREATED:20250319T160134Z
LAST-MODIFIED:20250319T160952Z
UID:1284-1748649600-1748735999@www.hintnerjugend.de
SUMMARY:Teichbrand (Festival und Landesstammtisch)
DESCRIPTION:Der Landesvorstand der PARTEI Sachsen-Anhalt lädt sich zu seinem Landesstammtisch auf dem Anwesen zweier PARTEI-Ordenträger ein paar Bands ein\, lässt den Gartenteich in einer Armada aus Schwimmkerzen hell erleuchten und freut sich über allerlei Gäste aus Politik (Die PARTEI)\, Wirtschaft (The Irish Harp Pub Wittenberg) und Gesellschaft (HintnerJugend).\nWillkommen zu Ausgelassenheit\, Tanz und Netzwerking! \nDas Ganze findet statt am 31. Mai 2025\, dem Samstag (West) bzw. Sonnabend (Ost) nach Himmelfahrt (West) bzw. Herrentag (Ost); in der Dorfstraße 55 in 39359 Everingen in der Nähe von Wolfsburg (West) bzw. Oebisfelde (Ost). Start ist viertel vor viertel vor fünf (West) oder halt 16:30 Uhr (Ost). \nCampen ist möglich und erwünscht\, kein Eintritt\, Getränke zum Selbstkostenpreis\, Spenden werden aber nicht verschmäht. Auf Nachfrage könnte auch vom Bahnhof Rätzlingen geshuttlet werden. \n(Noch) Näheres zu erfragen unter: teichbrand(at)hintnerjugend.de
URL:https://www.hintnerjugend.de/event/teichbrand-festival-und-landesstammtisch/
LOCATION:Everingen\, Everingen\, 39359\, Germany
END:VEVENT
BEGIN:VEVENT
DTSTART;VALUE=DATE:20250517
DTEND;VALUE=DATE:20250518
DTSTAMP:20260421T074929
CREATED:20250313T155156Z
LAST-MODIFIED:20250328T090510Z
UID:1252-1747440000-1747526399@www.hintnerjugend.de
SUMMARY:HintnerJugend-Aktionstag Heidelberg
DESCRIPTION:Die HintnerJugend trifft sich zu einem Aktionstag in Heidelberg. HintnerJugendSpiele auf der Neckarwiese! Stadtrallye! Abends gemütliches Beisammensein (mit Nahrung und Getränken)! \nTreffen um 14:30 Uhr auf der Neckarwiese in Heidelberg (Drei Steine). \nInteressierte\, PARTEIler und Sympathisanten sind ebenfalls herzlich eingeladen. \nMehr Details (im April) auf Facedings. \nKontakt: aktion-hd(at)hintnerjugend.de \n 
URL:https://www.hintnerjugend.de/event/hintnerjugend-aktionstag-heidelberg/
LOCATION:Heidelberg\, Heidelberg\, Deutschland
ATTACH;FMTTYPE=image/jpeg:https://www.hintnerjugend.de/wp-content/uploads/2025/03/neckar3.jpg
END:VEVENT
BEGIN:VEVENT
DTSTART;VALUE=DATE:20250426
DTEND;VALUE=DATE:20250427
DTSTAMP:20260421T074929
CREATED:20250320T163240Z
LAST-MODIFIED:20250320T164414Z
UID:1293-1745625600-1745711999@www.hintnerjugend.de
SUMMARY:HintnerJugend-Aktionstag am Brocken (Harz)
DESCRIPTION:Es ist soweit! Der Brocken steht zum Verkauf – und bevor der Landkreis Harz ihn in eine Mischung aus bayerischer Spaß-Alm\, Shoppingmall und exklusiver Premium-Wanderzone mit Drehkreuzen verwandelt\, besteigen wir ihn ein letztes Mal als vereinte Hintner Jugend! \nDoch wie es die Geschichte will\, kann nichts ewig eins sein – und so werden wir\, in bester Tradition\, nach einer kurzen\, tränenreichen Wiedervereinigung unsere endgültige Trennung vom Brocken besiegeln. \nDas alles am Samstag 26. April um 12:00 Uhr! \nOst-Expedition: Startet am Bahnhof Schierke\, mit genug Feuerstein in den Taschen\, über den Teufelsstieg am Eckersloch zum Gipfel.\nWest-Expedition: Bricht von Torfhaus (Nationalpark-Besucherzentrum) über den Goetheweg zum Brocken auf – immer den Spuren des großen Dichters und Trinkers hinterher.\n(Imbissmöglichkeit um 12 Uhr in Bahnhofsbaude bzw. Wienerwald\, Abmarsch gegen 12:45 Uhr.) \nDie Gipfel-Agenda: Wiedervereinigung: Freudentränen\, Händeschütteln\, Gesang\, Revolution – und selbstverständlich Mauerbau!\n. \nDies ist die allerletzte Gelegenheit\, bevor der Brocken zu einer „Erlebniswelt Harz 2030“ umgewandelt wird – mit Skyrun-Coaster\, Wald-Wellness und Ticketautomaten an jedem Baum.\nAlso GenossiX\, sattelt die Wanderschuhe und schließt euch der letzten großen Besetzung des Brocken an! \nKontakt: brocken(at)hintnerjugend.de \nP.S.: Es gibt die Chance\, dass auch die JU Harz auch einen Gipfelaufstieg an demselben Tag durchführen wird – Möglichkeit zu Infiltration und Zersetzung.
URL:https://www.hintnerjugend.de/event/hintnerjugend-aktionstag-am-brocken-harz/
ATTACH;FMTTYPE=image/jpeg:https://www.hintnerjugend.de/wp-content/uploads/2025/03/brocken1-klein.jpg
END:VEVENT
BEGIN:VEVENT
DTSTART;VALUE=DATE:20250103
DTEND;VALUE=DATE:20250106
DTSTAMP:20260421T074929
CREATED:20240111T175741Z
LAST-MODIFIED:20250313T163957Z
UID:1039-1735862400-1736121599@www.hintnerjugend.de
SUMMARY:Neujahrsklausur 2025
DESCRIPTION:
URL:https://www.hintnerjugend.de/event/neujahrsklausur-2025/
LOCATION:Rhön\, Rhön\, Deutschland
ATTACH;FMTTYPE=image/jpeg:https://www.hintnerjugend.de/wp-content/uploads/2024/01/njk1b.jpg
END:VEVENT
BEGIN:VEVENT
DTSTART;VALUE=DATE:20241220
DTEND;VALUE=DATE:20241223
DTSTAMP:20260421T074929
CREATED:20240111T175846Z
LAST-MODIFIED:20240111T180045Z
UID:1041-1734652800-1734911999@www.hintnerjugend.de
SUMMARY:Biernachten 2024
DESCRIPTION:
URL:https://www.hintnerjugend.de/event/biernachten-2024/
LOCATION:Landshut\, Landshut\, Deutschland
END:VEVENT
BEGIN:VEVENT
DTSTART;VALUE=DATE:20241018
DTEND;VALUE=DATE:20241021
DTSTAMP:20260421T074929
CREATED:20240111T175640Z
LAST-MODIFIED:20240225T162951Z
UID:1037-1729209600-1729468799@www.hintnerjugend.de
SUMMARY:Roter Oktober 2024
DESCRIPTION:
URL:https://www.hintnerjugend.de/event/roter-oktober-2024/
LOCATION:Pfälzer Wald\, Pfälzerwald\, Deutschland
END:VEVENT
BEGIN:VEVENT
DTSTART;VALUE=DATE:20240818
DTEND;VALUE=DATE:20240819
DTSTAMP:20260421T074929
CREATED:20240111T180757Z
LAST-MODIFIED:20240111T180856Z
UID:1053-1723939200-1724025599@www.hintnerjugend.de
SUMMARY:Fassschlubberfeschdl Siwweldinge 2024 - Präsenz vor Ort
DESCRIPTION:
URL:https://www.hintnerjugend.de/event/fassschlubberfeschdl-siwweldinge-2024-praesenz-vor-ort/
LOCATION:Fassschlubber\, Weinstraße 68\, 76833 Siebeldingen\, Deutschland
END:VEVENT
BEGIN:VEVENT
DTSTART;VALUE=DATE:20240803
DTEND;VALUE=DATE:20240809
DTSTAMP:20260421T074929
CREATED:20240111T175535Z
LAST-MODIFIED:20240111T175535Z
UID:1034-1722643200-1723161599@www.hintnerjugend.de
SUMMARY:Watzmann-Aufstieg 2024
DESCRIPTION:
URL:https://www.hintnerjugend.de/event/watzmann-aufstieg-2024/
LOCATION:Berchtesgaden\, Berchtesgaden\, Deutschland
END:VEVENT
BEGIN:VEVENT
DTSTART;VALUE=DATE:20240724
DTEND;VALUE=DATE:20240729
DTSTAMP:20260421T074929
CREATED:20240111T180401Z
LAST-MODIFIED:20240111T180509Z
UID:1049-1721779200-1722211199@www.hintnerjugend.de
SUMMARY:Burg Herzberg Festival 2024 - Präsenz vor Ort
DESCRIPTION:
URL:https://www.hintnerjugend.de/event/burg-herzberg-festival-praesenz-vor-ort/
LOCATION:Burg Herzberg\, Hofhuhnstadt\, 36287 Breitenbach am Herzberg\, Burg Herzberg\, Deutschland
END:VEVENT
BEGIN:VEVENT
DTSTART;VALUE=DATE:20240712
DTEND;VALUE=DATE:20240715
DTSTAMP:20260421T074929
CREATED:20240111T175419Z
LAST-MODIFIED:20240111T180029Z
UID:1031-1720742400-1721001599@www.hintnerjugend.de
SUMMARY:Zeltlager „Altmühlsturm“ 2024
DESCRIPTION:
URL:https://www.hintnerjugend.de/event/zeltlager-altmuehlsturm-2023-2/
LOCATION:Altmühltal\, Naturpark Altmühltal\, Deutschland
END:VEVENT
BEGIN:VEVENT
DTSTART;VALUE=DATE:20240615
DTEND;VALUE=DATE:20240616
DTSTAMP:20260421T074929
CREATED:20240225T163130Z
LAST-MODIFIED:20240225T163130Z
UID:1101-1718409600-1718495999@www.hintnerjugend.de
SUMMARY:HintnerJugendTag Westbund Heidelberg
DESCRIPTION:
URL:https://www.hintnerjugend.de/event/hintnerjugendtag-westbund-heidelberg/
LOCATION:Heidelberg\, Heidelberg\, Deutschland
END:VEVENT
BEGIN:VEVENT
DTSTART;VALUE=DATE:20240518
DTEND;VALUE=DATE:20240522
DTSTAMP:20260421T074929
CREATED:20240111T175309Z
LAST-MODIFIED:20240111T175309Z
UID:1029-1715990400-1716335999@www.hintnerjugend.de
SUMMARY:Pragfahrt 2024
DESCRIPTION:
URL:https://www.hintnerjugend.de/event/pragfahrt-2024/
LOCATION:Prag\, Prag\, Tschechien\, Tschechien
END:VEVENT
BEGIN:VEVENT
DTSTART;TZID=UTC:20240413T120000
DTEND;TZID=UTC:20240413T230000
DTSTAMP:20260421T074929
CREATED:20240314T101838Z
LAST-MODIFIED:20240315T171316Z
UID:1107-1713009600-1713049200@www.hintnerjugend.de
SUMMARY:HintnerJugend Schnuppertag im Ostbund
DESCRIPTION:Der Ostbund der Hintnerjugend lädt dich zu einem Schnuppertag in die bezaubernde Metropole Magdeburg ein. \nKultur\, Sport und Verköstigung gibt es zu erwarten. \nAnmeldung und Informationen unter ostbund@hintnerjugend.de
URL:https://www.hintnerjugend.de/event/hintnerjugend-schnuppertag-im-ostbund/
LOCATION:Magdeburg\, Magdeburg\, Deutschland
CATEGORIES:U16,Ü16
ORGANIZER;CN="Ostbund":MAILTO:ostbund@hintnerjugend.de
END:VEVENT
BEGIN:VEVENT
DTSTART;VALUE=DATE:20240104
DTEND;VALUE=DATE:20240108
DTSTAMP:20260421T074929
CREATED:20230318T141248Z
LAST-MODIFIED:20231016T153150Z
UID:134-1704409200-1704668399@www.hintnerjugend.de
SUMMARY:Neujahrsklausur 2024
DESCRIPTION:
URL:https://www.hintnerjugend.de/event/neujahrsklausur-2024/
LOCATION:Rhön\, Rhön\, Deutschland
END:VEVENT
BEGIN:VEVENT
DTSTART;TZID=UTC:20231214T230000
DTEND;TZID=UTC:20231217T225959
DTSTAMP:20260421T074929
CREATED:20230318T141139Z
LAST-MODIFIED:20240111T175926Z
UID:131-1702594800-1702853999@www.hintnerjugend.de
SUMMARY:Biernachten 2023
DESCRIPTION:
URL:https://www.hintnerjugend.de/event/biernachten-2023/
LOCATION:Landshut\, Landshut\, Deutschland
END:VEVENT
BEGIN:VEVENT
DTSTART;TZID=UTC:20231012T220000
DTEND;TZID=UTC:20231015T215959
DTSTAMP:20260421T074929
CREATED:20230318T140956Z
LAST-MODIFIED:20240111T175940Z
UID:128-1697148000-1697407199@www.hintnerjugend.de
SUMMARY:Roter Oktober 2023
DESCRIPTION:
URL:https://www.hintnerjugend.de/event/roter-oktober-2023/
LOCATION:Pfälzer Wald\, Pfälzerwald\, Deutschland
END:VEVENT
BEGIN:VEVENT
DTSTART;TZID=UTC:20230914T220000
DTEND;TZID=UTC:20230917T215959
DTSTAMP:20260421T074929
CREATED:20230318T140104Z
LAST-MODIFIED:20230318T140104Z
UID:122-1694728800-1694987999@www.hintnerjugend.de
SUMMARY:Schiffe versenken 2023
DESCRIPTION:
URL:https://www.hintnerjugend.de/event/schiffe-versenken-2023/
LOCATION:Mirow\, Mirow\, Deutschland
ORGANIZER;CN="Ostbund":MAILTO:ostbund@hintnerjugend.de
END:VEVENT
BEGIN:VEVENT
DTSTART;TZID=UTC:20230825T150000
DTEND;TZID=UTC:20230827T100000
DTSTAMP:20260421T074929
CREATED:20230318T135514Z
LAST-MODIFIED:20230318T135514Z
UID:120-1692975600-1693130400@www.hintnerjugend.de
SUMMARY:HintnerJugendSpiele 2023
DESCRIPTION:Zu Ehren unseres Namenspatron und Schirmherr Tom Hintner veranstaltet der Ostbund jährlich die Hintnerjugendspiele. Der “Kinder- und Jugendzeltplatz Friedensau” bietet beste Bedingungen Kraft\, Ausdauer und Geschick der Jugend im Spiel zu messen. In verschiedenen Disziplinen treten Quappen\, Frösche und Kröten gegeneinander an. Dem Sieger winken reichlich Lob und Anerkennung. \nNeben den Spielen findet in Friedensau auch die jährliche Mitgliederversammlung des Ostbundes statt\, bei dem ein sehr guter Vorstand gewählt und auf die nächsten 12 Monat eingepeitscht wird. \nAuch die Entwicklung unserer Quappen und Jungfrösche liegt uns am Herzen. Bei nächtlichen Orientierungsläufen zeigen wir\, wie man bei Mondschein seinen Laich findet und bei Arbeitseinsätzen stählern wir unser Schenkel. Abends am Lagerfeuer nähen wir gemeinsam unsere neu errungenen Abzeichen auf unsere Feldblusen und stimmen zum gemeinsamen Lied an.
URL:https://www.hintnerjugend.de/event/hintnerjugendspiele-2023/
LOCATION:Möckern\, Friedensau (Möckern)\, Deutschland
ORGANIZER;CN="Ostbund":MAILTO:ostbund@hintnerjugend.de
END:VEVENT
BEGIN:VEVENT
DTSTART;TZID=UTC:20230817T220000
DTEND;TZID=UTC:20230820T215959
DTSTAMP:20260421T074929
CREATED:20230318T135437Z
LAST-MODIFIED:20240111T175949Z
UID:118-1692309600-1692568799@www.hintnerjugend.de
SUMMARY:HintnerJugendWasserSpiele 2023
DESCRIPTION:
URL:https://www.hintnerjugend.de/event/hintnerjugendwasserspiele-2023/
LOCATION:Bruchsal\, Bruchsal\, Deutschland
END:VEVENT
BEGIN:VEVENT
DTSTART;TZID=UTC:20230804T220000
DTEND;TZID=UTC:20230809T215959
DTSTAMP:20260421T074929
CREATED:20230318T135402Z
LAST-MODIFIED:20230318T135402Z
UID:116-1691186400-1691618399@www.hintnerjugend.de
SUMMARY:Watzmann-Aufstieg 2023
DESCRIPTION:
URL:https://www.hintnerjugend.de/event/watzmann-aufstieg-2023/
LOCATION:Berchtesgaden\, Berchtesgaden\, Deutschland
END:VEVENT
BEGIN:VEVENT
DTSTART;TZID=UTC:20230615T220000
DTEND;TZID=UTC:20230618T215959
DTSTAMP:20260421T074929
CREATED:20230318T135043Z
LAST-MODIFIED:20240111T175957Z
UID:112-1686866400-1687125599@www.hintnerjugend.de
SUMMARY:Zeltlager „Altmühlsturm“ 2023
DESCRIPTION:
URL:https://www.hintnerjugend.de/event/zeltlager-altmuehlsturm-2023/
LOCATION:Altmühltal\, Naturpark Altmühltal\, Deutschland
END:VEVENT
END:VCALENDAR